BEGIN:VCALENDAR
PRODID:brasil.gov.agenda
VERSION:1.0
BEGIN:VEVENT
DTSTART:20220517T080000Z
DTEND:20220517T120000Z
DCREATED:20220519T165726Z
UID:Compromisso-aacdbd442bfe4f108392b6a2b21c2625
SEQUENCE:0
LAST-MODIFIED:20220519T165909Z
SUMMARY:Reunião Prefeitura de Unaí
LOCATION:Reitoria
PRIORITY:3
TRANSP:0
END:VEVENT
END:VCALENDAR
