BEGIN:VCALENDAR
PRODID:brasil.gov.agenda
VERSION:1.0
BEGIN:VEVENT
DTSTART:20220517T170000Z
DTEND:20220517T191000Z
DCREATED:20220519T165816Z
UID:Compromisso-f570b7e48a624b7bad49a4bdc462190e
SEQUENCE:0
LAST-MODIFIED:20220519T165816Z
SUMMARY:Deslocamento para Brasília
LOCATION:Reitoria
PRIORITY:3
TRANSP:0
END:VEVENT
END:VCALENDAR
