BEGIN:VCALENDAR
PRODID:brasil.gov.agenda
VERSION:1.0
BEGIN:VEVENT
DTSTART:20220516T140000Z
DTEND:20220516T150000Z
DCREATED:20220519T165602Z
UID:Compromisso-b7906d04bb1a4a1797a7c26ee3187e7f
SEQUENCE:0
LAST-MODIFIED:20220519T165602Z
SUMMARY:Reunião Reitor\, DPS e SUPERAGRO com Representante da CCPR
LOCATION:Reitoria
PRIORITY:3
TRANSP:0
END:VEVENT
END:VCALENDAR
