BEGIN:VCALENDAR
PRODID:brasil.gov.agenda
VERSION:1.0
BEGIN:VEVENT
DTSTART:20220516T150000Z
DTEND:20220516T210000Z
DCREATED:20220519T165626Z
UID:Compromisso-af37e28dd89e42279215649f56106cf5
SEQUENCE:0
LAST-MODIFIED:20220519T165626Z
SUMMARY:Deslocamento para Unaí
LOCATION:Reitoria
PRIORITY:3
TRANSP:0
END:VEVENT
END:VCALENDAR
