BEGIN:VCALENDAR
PRODID:brasil.gov.agenda
VERSION:1.0
BEGIN:VEVENT
DTSTART:20220516T120000Z
DTEND:20220516T140000Z
DCREATED:20220516T193424Z
UID:Compromisso-d554feb8875140b7be48665cfb9f9743
SEQUENCE:0
LAST-MODIFIED:20220519T165540Z
SUMMARY:Deslocamento para Curvelo
LOCATION:Reitoria
PRIORITY:3
TRANSP:0
END:VEVENT
END:VCALENDAR
