BEGIN:VCALENDAR
PRODID:brasil.gov.agenda
VERSION:1.0
BEGIN:VEVENT
DTSTART:20220513T090000Z
DTEND:20220513T110000Z
DCREATED:20220516T190629Z
UID:Compromisso-43aaf95a0d324c039b19ea940a268660
SEQUENCE:0
LAST-MODIFIED:20220516T190629Z
SUMMARY:Reunião Reitor e Congregação da FAMED
DESCRIPTION:Esclarecimentos acerca das Negociações da Reitoria com o
  Governo de Estado de Minas Gerais visando repasses de recursos financ
 eiros para as unidades acadêmicas da UFVJM e em contrapartida à UFVJ
 M apresentaria uma proposta de expansão com cursos de graduação uti
 lizando as Escolas Técnicas do Programa Brasil Profissionalizado. Pro
 cesso SEI 23086.004177/2022-00.
LOCATION:Reitoria
PRIORITY:3
TRANSP:0
END:VEVENT
END:VCALENDAR
