BEGIN:VCALENDAR
PRODID:brasil.gov.agenda
VERSION:1.0
BEGIN:VEVENT
DTSTART:20220512T080000Z
DTEND:20220512T120000Z
DCREATED:20220516T190423Z
UID:Compromisso-a1101bbc6717435ab2b724f96eaa3a16
SEQUENCE:0
LAST-MODIFIED:20220516T190423Z
SUMMARY:Despachos Internos
LOCATION:Reitoria
PRIORITY:3
TRANSP:0
END:VEVENT
END:VCALENDAR
