BEGIN:VCALENDAR
PRODID:brasil.gov.agenda
VERSION:1.0
BEGIN:VEVENT
DTSTART:20220506T070000Z
DTEND:20220506T140000Z
DCREATED:20220503T142421Z
UID:Compromisso-918684a89ce24db3ba96719021dfa6a8
SEQUENCE:0
LAST-MODIFIED:20220503T142421Z
SUMMARY:Retorno para o município de Diamantina/MG
LOCATION:Reitoria
PRIORITY:3
TRANSP:0
END:VEVENT
END:VCALENDAR
