BEGIN:VCALENDAR
PRODID:brasil.gov.agenda
VERSION:1.0
BEGIN:VEVENT
DTSTART:20220505T140000Z
DTEND:20220505T180000Z
DCREATED:20220503T142306Z
UID:Compromisso-787a8cd4f9a74a169f0b9db165d1ef1b
SEQUENCE:0
LAST-MODIFIED:20220503T142306Z
SUMMARY:ReuniÃ£o na Prefeitura de Manga/MG
DESCRIPTION:Programa Brasil Profissionalizado e Visitas Ã s Escolas TÃ
 ©cnicas
LOCATION:Reitoria
PRIORITY:3
TRANSP:0
END:VEVENT
END:VCALENDAR
