BEGIN:VCALENDAR
PRODID:brasil.gov.agenda
VERSION:1.0
BEGIN:VEVENT
DTSTART:20220505T070000Z
DTEND:20220505T123000Z
DCREATED:20220503T142231Z
UID:Compromisso-5d88cdb1a58141f9a1f2eb49cc396a9e
SEQUENCE:0
LAST-MODIFIED:20220503T142231Z
SUMMARY:Deslocamento para o município de Manga/MG
LOCATION:Reitoria
PRIORITY:3
TRANSP:0
END:VEVENT
END:VCALENDAR
