BEGIN:VCALENDAR
PRODID:brasil.gov.agenda
VERSION:1.0
BEGIN:VEVENT
DTSTART:20220504T080000Z
DTEND:20220504T110000Z
DCREATED:20220503T141955Z
UID:Compromisso-bd4ea26ef8e945398e493672d1d382c4
SEQUENCE:0
LAST-MODIFIED:20220503T141955Z
SUMMARY:ReuniÃ£o Prefeitura de Monte Azul
DESCRIPTION:Programa Brasil Profissionalizado e Visitas Ã s Escolas TÃ
 ©cnicas.
LOCATION:Reitoria
PRIORITY:3
TRANSP:0
END:VEVENT
END:VCALENDAR
