BEGIN:VCALENDAR
PRODID:brasil.gov.agenda
VERSION:1.0
BEGIN:VEVENT
DTSTART:20220503T080000Z
DTEND:20220503T110000Z
DCREATED:20220503T141629Z
UID:Compromisso-d60f6691e3cc4c55870bc5a2ddb31f46
SEQUENCE:0
LAST-MODIFIED:20220503T141629Z
SUMMARY:ReuniÃ£o Prefeitura de JoaÃ­ma
DESCRIPTION:Programa Brasil Profissionalizado e Visitas Ã s Escolas TÃ
 ©cnicas
LOCATION:Reitoria
PRIORITY:3
TRANSP:0
END:VEVENT
END:VCALENDAR
