BEGIN:VCALENDAR
PRODID:brasil.gov.agenda
VERSION:1.0
BEGIN:VEVENT
DTSTART:20220503T130000Z
DTEND:20220503T160000Z
DCREATED:20220503T141824Z
UID:Compromisso-4db46a8551014a6dba7448f063f70480
SEQUENCE:0
LAST-MODIFIED:20220503T141824Z
SUMMARY:Deslocamento para o município de Monte Azul/MG
LOCATION:Reitoria
PRIORITY:3
TRANSP:0
END:VEVENT
END:VCALENDAR
