BEGIN:VCALENDAR
PRODID:brasil.gov.agenda
VERSION:1.0
BEGIN:VEVENT
DTSTART:20220502T080000Z
DTEND:20220502T110000Z
DCREATED:20220503T141155Z
UID:Compromisso-0845f0481bae47e59a20fe7d86cb4c12
SEQUENCE:0
LAST-MODIFIED:20220503T141155Z
SUMMARY:ReuniÃ£o Prefeitura de JoaÃ­ma
DESCRIPTION:Programa Brasil Profissionalizado e Visitas Ã s Escolas TÃ
 ©cnicas.
LOCATION:Reitoria
PRIORITY:3
TRANSP:0
END:VEVENT
END:VCALENDAR
