BEGIN:VCALENDAR
PRODID:brasil.gov.agenda
VERSION:1.0
BEGIN:VEVENT
DTSTART:20220502T130000Z
DTEND:20220502T173000Z
DCREATED:20220503T141221Z
UID:Compromisso-296cab7ab0ba4ec0971db07ad2123ece
SEQUENCE:0
LAST-MODIFIED:20220503T141221Z
SUMMARY:Deslocamento para o município de Taiobeiras/MG
LOCATION:Reitoria
PRIORITY:3
TRANSP:0
END:VEVENT
END:VCALENDAR
