BEGIN:VCALENDAR
PRODID:brasil.gov.agenda
VERSION:1.0
BEGIN:VEVENT
DTSTART:20220420T083000Z
DTEND:20220420T090000Z
DCREATED:20220428T192837Z
UID:Compromisso-0863a7bb53a24714ae1006b473e4cf3b
SEQUENCE:0
LAST-MODIFIED:20220428T192837Z
SUMMARY:Reunião Reitor\, PRPPG e DTI
DESCRIPTION:Solicitação de aval para implementação de solução de
  colaboração em nuvem (Microsoft Office 365 Education) de forma comp
 lementar na UFVJM\; e Solicitação de aval para implementação de so
 lução para publicaçãode Revistas Eletrônicas Institucionais.
LOCATION:Reitoria
PRIORITY:3
TRANSP:0
END:VEVENT
END:VCALENDAR
