BEGIN:VCALENDAR
PRODID:brasil.gov.agenda
VERSION:1.0
BEGIN:VEVENT
DTSTART:20220420T150000Z
DTEND:20220420T160000Z
DCREATED:20220428T193204Z
UID:Compromisso-347d1a1e19f743c3a0218649b6cb6ed9
SEQUENCE:0
LAST-MODIFIED:20220428T193204Z
SUMMARY:Reunião Reitor\, PROPLAN\, PROACE e PROAD
DESCRIPTION:Encaminhamentos TED 11066 - Construção RU Etapa II
LOCATION:Reitoria
PRIORITY:3
TRANSP:0
END:VEVENT
END:VCALENDAR
