BEGIN:VCALENDAR
PRODID:brasil.gov.agenda
VERSION:1.0
BEGIN:VEVENT
DTSTART:20220420T090000Z
DTEND:20220420T093000Z
DCREATED:20220428T192941Z
UID:Compromisso-88bb74f596d44791aa4ce045794f16ea
SEQUENCE:0
LAST-MODIFIED:20220428T192941Z
SUMMARY:Reunião Reitor\, PROGRAD e DRI
DESCRIPTION:Restrito
LOCATION:Reitoria
PRIORITY:3
TRANSP:0
END:VEVENT
END:VCALENDAR
