BEGIN:VCALENDAR
PRODID:brasil.gov.agenda
VERSION:1.0
BEGIN:VEVENT
DTSTART:20220420T140000Z
DTEND:20220420T150000Z
DCREATED:20220428T193101Z
UID:Compromisso-e8f95b56113645a3ba6d2be71db69c27
SEQUENCE:0
LAST-MODIFIED:20220428T193122Z
SUMMARY:Reunião Reitor \, PROAD e DIPLAC
DESCRIPTION:Projetos de segurança contra incêndio e pânico para sub
 sidiar o recredenciamento institucional
LOCATION:Reitoria
PRIORITY:3
TRANSP:0
END:VEVENT
END:VCALENDAR
