BEGIN:VCALENDAR
PRODID:brasil.gov.agenda
VERSION:1.0
BEGIN:VEVENT
DTSTART:20220420T160000Z
DTEND:20220420T163000Z
DCREATED:20220428T193250Z
UID:Compromisso-845ca706b1aa41ba8dcae1f96cd3db42
SEQUENCE:0
LAST-MODIFIED:20220428T193250Z
SUMMARY:Reunião Reitor e FCA
DESCRIPTION:Demandas\, atualizadas\, de Infraestrutura (construção e
  manutenção) e de equipamentos (aquisição) do Departamento de Agro
 nomia.
LOCATION:Reitoria
PRIORITY:3
TRANSP:0
END:VEVENT
END:VCALENDAR
