BEGIN:VCALENDAR
PRODID:brasil.gov.agenda
VERSION:1.0
BEGIN:VEVENT
DTSTART:20220420T080000Z
DTEND:20220420T083000Z
DCREATED:20220428T192758Z
UID:Compromisso-6bd088fed88e46dd8865822cb0fc484b
SEQUENCE:0
LAST-MODIFIED:20220428T192859Z
SUMMARY:Reunião Reitor e DEAD
DESCRIPTION:Aquisição de ebook ́s  para a DEAD/Biblioteca da univer
 sidade
LOCATION:Reitoria
PRIORITY:3
TRANSP:0
END:VEVENT
END:VCALENDAR
