BEGIN:VCALENDAR
PRODID:brasil.gov.agenda
VERSION:1.0
BEGIN:VEVENT
DTSTART:20220420T103000Z
DTEND:20220420T120000Z
DCREATED:20220428T193018Z
UID:Compromisso-e720b3fee121489d850399bc9303169f
SEQUENCE:0
LAST-MODIFIED:20220428T193019Z
SUMMARY:Reunião Reitor\, CPA\, PI e DTI
DESCRIPTION:Relatório de Autoavaliação Institucional 2021 pela Comi
 ssão Própria de Avaliação (CPA)
LOCATION:Reitoria
PRIORITY:3
TRANSP:0
END:VEVENT
END:VCALENDAR
