BEGIN:VCALENDAR
PRODID:brasil.gov.agenda
VERSION:1.0
BEGIN:VEVENT
DTSTART:20220420T163000Z
DTEND:20220420T180000Z
DCREATED:20220428T193333Z
UID:Compromisso-284a4e281c534160a2a4ed46bebcf8be
SEQUENCE:0
LAST-MODIFIED:20220428T193333Z
SUMMARY:Despachos Internos
LOCATION:Reitoria
PRIORITY:3
TRANSP:0
END:VEVENT
END:VCALENDAR
