BEGIN:VCALENDAR
PRODID:brasil.gov.agenda
VERSION:1.0
BEGIN:VEVENT
DTSTART:20220419T080000Z
DTEND:20220419T120000Z
DCREATED:20220428T192602Z
UID:Compromisso-fc66c32c78234be087de00e348ac5a7e
SEQUENCE:0
LAST-MODIFIED:20220428T192602Z
SUMMARY:Despachos Internos
LOCATION:Reitoria
PRIORITY:3
TRANSP:0
END:VEVENT
END:VCALENDAR
