BEGIN:VCALENDAR
PRODID:brasil.gov.agenda
VERSION:1.0
BEGIN:VEVENT
DTSTART:20220418T140000Z
DTEND:20220418T180000Z
DCREATED:20220428T192510Z
UID:Compromisso-0bb7c6d9667e45738e6137685bcb1161
SEQUENCE:0
LAST-MODIFIED:20220622T174856Z
SUMMARY:174ª reunião sendo a 129ª sessão em caráter ordinário do CONSEPE
LOCATION:Reitoria
PRIORITY:3
TRANSP:0
END:VEVENT
END:VCALENDAR
