BEGIN:VCALENDAR
PRODID:brasil.gov.agenda
VERSION:1.0
BEGIN:VEVENT
DTSTART:20220413T080000Z
DTEND:20220413T120000Z
DCREATED:20220428T192230Z
UID:Compromisso-549b01dae2b1451d9d1f67618156568f
SEQUENCE:0
LAST-MODIFIED:20220428T192230Z
SUMMARY:Despachos Internos
LOCATION:Reitoria
PRIORITY:3
TRANSP:0
END:VEVENT
END:VCALENDAR
