BEGIN:VCALENDAR
PRODID:brasil.gov.agenda
VERSION:1.0
BEGIN:VEVENT
DTSTART:20220412T140000Z
DTEND:20220412T180000Z
DCREATED:20220428T191232Z
UID:Compromisso-859ad6999218431482259395cc3a4fe1
SEQUENCE:0
LAST-MODIFIED:20220428T191232Z
SUMMARY:Despachos Internos
LOCATION:Reitoria
PRIORITY:3
TRANSP:0
END:VEVENT
END:VCALENDAR
