BEGIN:VCALENDAR
PRODID:brasil.gov.agenda
VERSION:1.0
BEGIN:VEVENT
DTSTART:20220411T140000Z
DTEND:20220411T180000Z
DCREATED:20220428T192057Z
UID:Compromisso-9339ea9d6cd14e30a070c1f2edbbf311
SEQUENCE:0
LAST-MODIFIED:20220428T192058Z
SUMMARY:Webinário Evolução: ÓRGÃOS SUPLEMENTARES
LOCATION:Reitoria
PRIORITY:3
TRANSP:0
END:VEVENT
END:VCALENDAR
