BEGIN:VCALENDAR
PRODID:brasil.gov.agenda
VERSION:1.0
BEGIN:VEVENT
DTSTART:20220411T080000Z
DTEND:20220411T120000Z
DCREATED:20220428T190951Z
UID:Compromisso-221f3ebf2f024e5c892adf172d52dfa8
SEQUENCE:0
LAST-MODIFIED:20220428T191922Z
SUMMARY:Despachos Internos
LOCATION:Reitoria
PRIORITY:3
TRANSP:0
END:VEVENT
END:VCALENDAR
