BEGIN:VCALENDAR
PRODID:brasil.gov.agenda
VERSION:1.0
BEGIN:VEVENT
DTSTART:20220408T140000Z
DTEND:20220408T160000Z
DCREATED:20220428T191621Z
UID:Compromisso-ed11be710d8e42a7a21f225dfede4835
SEQUENCE:0
LAST-MODIFIED:20220428T191621Z
SUMMARY:Reunião Reitor e PGF
DESCRIPTION:Fundação e Atribuições do Wárlisson
LOCATION:Reitoria
PRIORITY:3
TRANSP:0
END:VEVENT
END:VCALENDAR
