BEGIN:VCALENDAR
PRODID:brasil.gov.agenda
VERSION:1.0
BEGIN:VEVENT
DTSTART:20220408T080000Z
DTEND:20220408T081500Z
DCREATED:20220428T190827Z
UID:Compromisso-43cee7e6b3e546748f6d4f811f908b53
SEQUENCE:0
LAST-MODIFIED:20220428T191503Z
SUMMARY:Reunião Reitor e 3ª Turma de Medicina do Campus de Mucuri
LOCATION:Reitoria
PRIORITY:3
TRANSP:0
END:VEVENT
END:VCALENDAR
