BEGIN:VCALENDAR
PRODID:brasil.gov.agenda
VERSION:1.0
BEGIN:VEVENT
DTSTART:20220408T160000Z
DTEND:20220408T180000Z
DCREATED:20220428T191657Z
UID:Compromisso-dde43346003f473e9e5b5801b7bfcf48
SEQUENCE:0
LAST-MODIFIED:20220428T191657Z
SUMMARY:Despachos Internos
LOCATION:Reitoria
PRIORITY:3
TRANSP:0
END:VEVENT
END:VCALENDAR
