BEGIN:VCALENDAR
PRODID:brasil.gov.agenda
VERSION:1.0
BEGIN:VEVENT
DTSTART:20220408T081500Z
DTEND:20220408T120000Z
DCREATED:20220428T190842Z
UID:Compromisso-110330d1c1e3448cac85617e68e59625
SEQUENCE:0
LAST-MODIFIED:20220428T191541Z
SUMMARY:Despachos Internos
LOCATION:Reitoria
PRIORITY:3
TRANSP:0
END:VEVENT
END:VCALENDAR
