BEGIN:VCALENDAR
PRODID:brasil.gov.agenda
VERSION:1.0
BEGIN:VEVENT
DTSTART:20220407T140000Z
DTEND:20220407T180000Z
DCREATED:20220407T133816Z
UID:Compromisso-c10e2e013de04dd68cc3c6982b06e82b
SEQUENCE:0
LAST-MODIFIED:20220407T133816Z
SUMMARY:Webinário Evolução: ÓRGÃOS SUPLEMENTARES - Reestruturação Administrativa
LOCATION:Reitoria
PRIORITY:3
TRANSP:0
END:VEVENT
END:VCALENDAR
