BEGIN:VCALENDAR
PRODID:brasil.gov.agenda
VERSION:1.0
BEGIN:VEVENT
DTSTART:20220407T090000Z
DTEND:20220407T100000Z
DCREATED:20220407T133713Z
UID:Compromisso-7e2c7824f1a84d6d9ad7aadb04c583b3
SEQUENCE:0
LAST-MODIFIED:20220407T133713Z
SUMMARY:Reunião Reitor e PROPLAN
DESCRIPTION:Alinhamento da Pró-Reitoria de Orçamento e Planejamento
LOCATION:Reitoria
PRIORITY:3
TRANSP:0
END:VEVENT
END:VCALENDAR
