BEGIN:VCALENDAR
PRODID:brasil.gov.agenda
VERSION:1.0
BEGIN:VEVENT
DTSTART:20220407T100000Z
DTEND:20220407T120000Z
DCREATED:20220407T133748Z
UID:Compromisso-782799c11318488b92997764ac2110b1
SEQUENCE:0
LAST-MODIFIED:20220407T133748Z
SUMMARY:Reunião Reitor e PROGEP
DESCRIPTION:Redistribuição de servidores
LOCATION:Reitoria
PRIORITY:3
TRANSP:0
END:VEVENT
END:VCALENDAR
