BEGIN:VCALENDAR
PRODID:brasil.gov.agenda
VERSION:1.0
BEGIN:VEVENT
DTSTART:20220406T080000Z
DTEND:20220406T090000Z
DCREATED:20220407T133352Z
UID:Compromisso-a6d905fe1a06421885250e7ee5dc9cb1
SEQUENCE:0
LAST-MODIFIED:20220407T133352Z
SUMMARY:Reunião Reitor\, PROACE e PROGEP
DESCRIPTION:Liberação de Servidor para fazer curso de qualificação
 
LOCATION:Reitoria
PRIORITY:3
TRANSP:0
END:VEVENT
END:VCALENDAR
