BEGIN:VCALENDAR
PRODID:brasil.gov.agenda
VERSION:1.0
BEGIN:VEVENT
DTSTART:20220406T180000Z
DTEND:20220406T190000Z
DCREATED:20220407T133515Z
UID:Compromisso-3938acca30434de68864624dbeddb732
SEQUENCE:0
LAST-MODIFIED:20220407T133515Z
SUMMARY:Reunião Reitor e Direção do IECT
DESCRIPTION:Apresentação à Equipe de Diretores de campi e sugestõe
 s ao Regimento Interno dos Diretores de campi fora da sede.
LOCATION:Reitoria
PRIORITY:3
TRANSP:0
END:VEVENT
END:VCALENDAR
