BEGIN:VCALENDAR
PRODID:brasil.gov.agenda
VERSION:1.0
BEGIN:VEVENT
DTSTART:20220406T143000Z
DTEND:20220406T160000Z
DCREATED:20220407T133440Z
UID:Compromisso-ccfd7f19f64f4db29fd182f6c83b6b46
SEQUENCE:0
LAST-MODIFIED:20220407T133440Z
SUMMARY:Reunião Reitor\, Diretor de Convênios e Projetos\, e FUNARBE
LOCATION:Reitoria
PRIORITY:3
TRANSP:0
END:VEVENT
END:VCALENDAR
