BEGIN:VCALENDAR
PRODID:brasil.gov.agenda
VERSION:1.0
BEGIN:VEVENT
DTSTART:20220406T090000Z
DTEND:20220406T120000Z
DCREATED:20220407T133411Z
UID:Compromisso-27e3bce7377644aa9cdd2980c8b8584a
SEQUENCE:0
LAST-MODIFIED:20220407T133411Z
SUMMARY:Despachos Internos
LOCATION:Reitoria
PRIORITY:3
TRANSP:0
END:VEVENT
END:VCALENDAR
