BEGIN:VCALENDAR
PRODID:brasil.gov.agenda
VERSION:1.0
BEGIN:VEVENT
DTSTART:20220405T110000Z
DTEND:20220405T120000Z
DCREATED:20220407T133207Z
UID:Compromisso-e2288d9285994caaad1cad6fb4cf03df
SEQUENCE:0
LAST-MODIFIED:20220407T133207Z
SUMMARY:Reunião Reitor e Superintendente de Produção Agropecuária das Fazendas Experimentais
DESCRIPTION:Alinhamento acerca da minuta de Regimento Interno da Super
 intendência de Produção Agropecuária das Fazendas Experimentais
LOCATION:Reitoria
PRIORITY:3
TRANSP:0
END:VEVENT
END:VCALENDAR
