BEGIN:VCALENDAR
PRODID:brasil.gov.agenda
VERSION:1.0
BEGIN:VEVENT
DTSTART:20220405T080000Z
DTEND:20220405T100000Z
DCREATED:20220407T133101Z
UID:Compromisso-36363901996d47909f170329ce11cb64
SEQUENCE:0
LAST-MODIFIED:20220407T133101Z
SUMMARY:Reunião Reitor e Secretária de Processos Administrativos
DESCRIPTION:Processos Administrativos
LOCATION:Reitoria
PRIORITY:3
TRANSP:0
END:VEVENT
END:VCALENDAR
