BEGIN:VCALENDAR
PRODID:brasil.gov.agenda
VERSION:1.0
BEGIN:VEVENT
DTSTART:20220331T140000Z
DTEND:20220331T150000Z
DCREATED:20220407T132536Z
UID:Compromisso-7d821e15c1b54a21a790c94cb395d6d6
SEQUENCE:0
LAST-MODIFIED:20220407T132536Z
SUMMARY:Reunião Reitor e Secretário Municipal de Esporte e Lazer de Diamantina/MG
DESCRIPTION:Utilização do Campo de Futebol da UFVJM para atividades 
 esportivas.
LOCATION:Reitoria
PRIORITY:3
TRANSP:0
END:VEVENT
END:VCALENDAR
