BEGIN:VCALENDAR
PRODID:brasil.gov.agenda
VERSION:1.0
BEGIN:VEVENT
DTSTART:20220331T000000Z
DTEND:20220331T000000Z
DCREATED:20220407T132425Z
UID:Compromisso-f38e15ece7644bf580d2018549bf7b90
SEQUENCE:0
LAST-MODIFIED:20220407T132425Z
SUMMARY:Reunião Reitor e Secretária de Processos Administrativos
DESCRIPTION:Processos Adminsitrativos
LOCATION:Reitoria
PRIORITY:3
TRANSP:0
END:VEVENT
END:VCALENDAR
