BEGIN:VCALENDAR
PRODID:brasil.gov.agenda
VERSION:1.0
BEGIN:VEVENT
DTSTART:20220331T150000Z
DTEND:20220331T160000Z
DCREATED:20220407T132618Z
UID:Compromisso-edf8622272894ac68c7dba5b2376c5c6
SEQUENCE:0
LAST-MODIFIED:20220407T132618Z
SUMMARY:Reunião Reitor e DICOM
DESCRIPTION:Rotas Brasil Profissionalizado
LOCATION:Reitoria
PRIORITY:3
TRANSP:0
END:VEVENT
END:VCALENDAR
