BEGIN:VCALENDAR
PRODID:brasil.gov.agenda
VERSION:1.0
BEGIN:VEVENT
DTSTART:20220330T160000Z
DTEND:20220330T170000Z
DCREATED:20220407T132059Z
UID:Compromisso-8dfada8e85f14d15811e9a09025ac0b8
SEQUENCE:0
LAST-MODIFIED:20220407T132059Z
SUMMARY:Reunião Reitor\, PROGEP e PROPLAN
DESCRIPTION:Reestruturação da Equipe da Proplan.
LOCATION:Reitoria
PRIORITY:3
TRANSP:0
END:VEVENT
END:VCALENDAR
