BEGIN:VCALENDAR
PRODID:brasil.gov.agenda
VERSION:1.0
BEGIN:VEVENT
DTSTART:20220330T090000Z
DTEND:20220330T100000Z
DCREATED:20220407T131948Z
UID:Compromisso-5de7b063cfc242bab8f73fbd511104a4
SEQUENCE:0
LAST-MODIFIED:20220407T131948Z
SUMMARY:Reunião Reitor e Direção ICET
DESCRIPTION:Viabilidade da implantação do curso de Engenharia de Gem
 as e Jóias no Campus Mucuri
LOCATION:Reitoria
PRIORITY:3
TRANSP:0
END:VEVENT
END:VCALENDAR
