BEGIN:VCALENDAR
PRODID:brasil.gov.agenda
VERSION:1.0
BEGIN:VEVENT
DTSTART:20220330T080000Z
DTEND:20220330T090000Z
DCREATED:20220407T131852Z
UID:Compromisso-30fdf919b3e24e49b813f99cbdd1f7eb
SEQUENCE:0
LAST-MODIFIED:20220407T131916Z
SUMMARY:Reunião Reitor e Direção da FACSAE
DESCRIPTION:Reunião Administrativa
LOCATION:Reitoria
PRIORITY:3
TRANSP:0
END:VEVENT
END:VCALENDAR
