BEGIN:VCALENDAR
PRODID:brasil.gov.agenda
VERSION:1.0
BEGIN:VEVENT
DTSTART:20220330T120000Z
DTEND:20220330T160000Z
DCREATED:20220407T132027Z
UID:Compromisso-a6914bbcf47b4d5a92cf99ceac42885f
SEQUENCE:0
LAST-MODIFIED:20220407T132027Z
SUMMARY:Despachos Internos
LOCATION:Reitoria
PRIORITY:3
TRANSP:0
END:VEVENT
END:VCALENDAR
