BEGIN:VCALENDAR
PRODID:brasil.gov.agenda
VERSION:1.0
BEGIN:VEVENT
DTSTART:20220329T140000Z
DTEND:20220329T180000Z
DCREATED:20220330T133920Z
UID:Compromisso-43a9142ecc8347a18e146f4fb0b171f2
SEQUENCE:0
LAST-MODIFIED:20220330T133920Z
SUMMARY:Despachos Internos
LOCATION:Reitoria
PRIORITY:3
TRANSP:0
END:VEVENT
END:VCALENDAR
